BEGIN:VCALENDAR
VERSION:2.0
PRODID:-// - ECPv4.8.1//NONSGML v1.0//EN
CALSCALE:GREGORIAN
METHOD:PUBLISH
X-ORIGINAL-URL:https://www.mratas.org.au
X-WR-CALDESC:Events for 
BEGIN:VEVENT
DTSTART;TZID=Australia/Hobart:20181201T123000
DTEND;TZID=Australia/Hobart:20181201T160000
DTSTAMP:20190228T171352
CREATED:20180318T012634Z
LAST-MODIFIED:20181116T044936Z
UID:198-1543667400-1543680000@www.mratas.org.au
SUMMARY:MRA TOY RUN 2018
DESCRIPTION:MRA TOY RUN 2018\n  \nIt’s that time of year again! \nMRA Tasmania is putting on the 39th annual Toy Run to support the Salvation Army and their efforts to make Christmas a more enjoyable time of year for those who are in a hard place in life. \nMeeting at The Derwent Entertainment centre at 12 Midday on Saturday the 1st Of December\, the ride will be departing at 2:30 to ride down to PW1 and gather at Parliament Lawns to donate your gifts and tidings to this great cause. \nSo come along and support the longest\, largest and oldest Toy Run in the country and help bring some Christmas cheer to those less fortunate. \nDon’t forget to share the event and invite all your mates! Let’s keep this as the biggest run in the country! \n  \nGift and Grocery suggestions from the Salvation Army. \nRemember they help people of all ages and genders\, so while stuffed toys look amazing on your bike we don’t need 5000 of them  \n  \n \n \n  \n  \n \n  \n
URL:https://www.mratas.org.au/index.php/event/mra-toy-run-2018/
LOCATION:Derwent Entertainment Centre\, 601 Brooker Highway\, Glenorchy\, TAS\, 7010\, Australia
END:VEVENT
END:VCALENDAR