BEGIN:VCALENDAR
VERSION:2.0
PRODID:-// - ECPv5.4.0//NONSGML v1.0//EN
CALSCALE:GREGORIAN
METHOD:PUBLISH
X-ORIGINAL-URL:https://www.mratas.org.au
X-WR-CALDESC:Events for 
BEGIN:VTIMEZONE
TZID:UTC
BEGIN:STANDARD
TZOFFSETFROM:+0000
TZOFFSETTO:+0000
TZNAME:UTC
DTSTART:20190101T000000
END:STANDARD
END:VTIMEZONE
BEGIN:VEVENT
DTSTART;TZID=UTC:20190308T120000
DTEND;TZID=UTC:20190311T120000
DTSTAMP:20210226T042210
CREATED:20180314T055714Z
LAST-MODIFIED:20180502T003411Z
UID:174-1552046400-1552305600@www.mratas.org.au
SUMMARY:MRA TAS RALLY 2019 – BETTER AT NIETTA
DESCRIPTION:TAS RALLY 2019 – BETTER AT NIETTA\n \n8th to 11th March 2019\n  \nRight on the heels of the roaring success of  Back To Back in Buckland brought to you for by MRA South Tasmania. \nTas Rally will be held in Nietta located in Tasmania’s picturesque North West for 2019 and our fine MRA North West Tasmania committee and volunteers will be taking the reigns for next year giving the Southern committee a much needed break! \n  \nClick the link below to download the PDF early bird application form for Tas Rally next year: \n  \n  \nTAS RALLY 2019 – Better at Nietta Application Form PDF
URL:https://www.mratas.org.au/event/tas-rally-2019-better-at-nietta/
LOCATION:Nietta\, Nietta\, Tasmania\, 7315
END:VEVENT
END:VCALENDAR