BEGIN:VCALENDAR
VERSION:2.0
PRODID:-// - ECPv5.4.0//NONSGML v1.0//EN
CALSCALE:GREGORIAN
METHOD:PUBLISH
X-ORIGINAL-URL:https://www.mratas.org.au
X-WR-CALDESC:Events for 
BEGIN:VTIMEZONE
TZID:UTC
BEGIN:STANDARD
TZOFFSETFROM:+0000
TZOFFSETTO:+0000
TZNAME:UTC
DTSTART:20180101T000000
END:STANDARD
END:VTIMEZONE
BEGIN:VEVENT
DTSTART;TZID=UTC:20180309T120000
DTEND;TZID=UTC:20180312T100000
DTSTAMP:20210226T042143
CREATED:20180210T132524Z
LAST-MODIFIED:20180210T132524Z
UID:83-1520596800-1520848800@www.mratas.org.au
SUMMARY:Tas Rally 2018
DESCRIPTION:MRA South is again hosting the BIGGEST BIKER RALLY in Tasmania in 2018 at the same great location as the 2017 TasRally\, Woodsden Road Buckland! \nBIKES! LIVE MUSIC! BAR! GAMES! COMPETITIONS! PRIZES! \nBring your bikes and your loved ones and party your troubles away in what is destined to be a highlight of the year for everyone who attends!
URL:https://www.mratas.org.au/event/tas-rally-2018/
END:VEVENT
END:VCALENDAR