BEGIN:VCALENDAR
VERSION:2.0
PRODID:-// - ECPv5.4.0//NONSGML v1.0//EN
CALSCALE:GREGORIAN
METHOD:PUBLISH
X-ORIGINAL-URL:https://www.mratas.org.au
X-WR-CALDESC:Events for 
BEGIN:VTIMEZONE
TZID:UTC
BEGIN:STANDARD
TZOFFSETFROM:+0000
TZOFFSETTO:+0000
TZNAME:UTC
DTSTART:20200101T000000
END:STANDARD
END:VTIMEZONE
BEGIN:VEVENT
DTSTART;TZID=UTC:20200306T120000
DTEND;TZID=UTC:20200309T090000
DTSTAMP:20210226T042358
CREATED:20190911T000915Z
LAST-MODIFIED:20190922T235010Z
UID:355-1583496000-1583744400@www.mratas.org.au
SUMMARY:MRA TAS RALLY 2020 - GETIN BETTER AT NIETTA
DESCRIPTION:TAS RALLY 2020 – GETINBETTA AT NIETTA\n6th to 9th March 2020\n \n\n \nAfter the hugely successful Tas Rally 2019 “Better in Nietta” MRA North West are hosting Tas Rally for a second year in the same picturesque location of Nietta in North West Tasmania! \nOur fine MRA North West Tasmania committee and volunteers will be taking the reigns again for next year. \n\n\n\n\n	\n\n\n\n \nMore details are to come so keep an eye on this website and social media for additional information as it comes to hand! \n  \nClick Here for Northwest’s MRA Facebook Page \n  \nClick the link / icon below to download the PDF early bird application form for Tas Rally next year: \nTAS RALLY 2020 – GetinBetta At Nietta – Pre Paid Application Form \n 
URL:https://www.mratas.org.au/event/mra-tas-rally-2020-getin-better-at-nietta/
CATEGORIES:Tas Rally,Tas Rally (North West)
END:VEVENT
END:VCALENDAR