BEGIN:VCALENDAR
VERSION:2.0
PRODID:-// - ECPv5.4.0//NONSGML v1.0//EN
CALSCALE:GREGORIAN
METHOD:PUBLISH
X-ORIGINAL-URL:https://www.mratas.org.au
X-WR-CALDESC:Events for 
BEGIN:VTIMEZONE
TZID:UTC
BEGIN:STANDARD
TZOFFSETFROM:+0000
TZOFFSETTO:+0000
TZNAME:UTC
DTSTART:20200101T000000
END:STANDARD
END:VTIMEZONE
BEGIN:VEVENT
DTSTART;TZID=UTC:20200818T190000
DTEND;TZID=UTC:20200818T210000
DTSTAMP:20210226T041906
CREATED:20200728T094938Z
LAST-MODIFIED:20200817T110902Z
UID:526-1597777200-1597784400@www.mratas.org.au
SUMMARY:MRA SOUTH ANNUAL GENERAL MEETING 2020
DESCRIPTION:MRA SOUTH ANNUAL GENERAL MEETING 2020\n\n\nAugust 18th @ 7:00 pm – 9:00 pm\n\n\n\nSOUTH MOTORCYCLE RIDERS ASSOCIATION\, INC\n \nANNUAL GENERAL MEETING \n\nWhere: The York Hotel\, 622 Main Rd\, Granton TAS \nWhen: 18th August 2020 \nStart Time: 7:00PM Sharp! \nEveryone welcome\, all committee positions will be available for nomination\, if you want a voice and wish to contribute to the Southern Motorcycling community then come along and have a chance to give something back to the motorcycling public! \n\n  \n\nClick the link below to review the Agenda for the 2020 Annual General Meeting: \nMRASouth-AnnualGeneralMeeting-Agenda 18th August 2020
URL:https://www.mratas.org.au/event/mra-south-annual-general-meeting-2020/
LOCATION:The York Hotel\, 622 Main Road\, Granton\, TAS\, 7030\, Australia
END:VEVENT
END:VCALENDAR